BEGIN:VCALENDAR
VERSION:2.0
PRODID:-//wp-events-plugin.com//7.2.3.1//EN
TZID:Europe/Paris
X-WR-TIMEZONE:Europe/Paris
BEGIN:VEVENT
UID:1795@cafeculturelcitoyen.org
DTSTART;TZID=Europe/Paris:20220827T203000
DTEND;TZID=Europe/Paris:20220827T223000
DTSTAMP:20220813T154216Z
URL:https://cafeculturelcitoyen.org/evenements/concert-devarius/
SUMMARY:Concert Devarius
DESCRIPTION:Fraichement débarqué\, Devarius propose un guitare-chant iné
 dit sur des compositions rock\, blues\, folk et même flamenco. Des parole
 s françaises originales et ciselées sur des thèmes à la fois actuels e
 t intemporels. Des chansons qui racontent quelque chose du monde\, de l’
 époque à travers des histoires ou des atmosphères. Influencé par Dylan
 \, Brel\, Cohen\, Gainsbourg\, les Rolling Stones ou les Doors\, ce jeune 
 artiste offre un regard nouveau sur des mélodies entrainantes et rythmée
 s.
ATTACH;FMTTYPE=image/jpeg:https://cafeculturelcitoyen.org/wp-content/uploa
 ds/2022/07/Capture-decran-2022-07-08-112740.jpg
END:VEVENT
BEGIN:VTIMEZONE
TZID:Europe/Paris
X-LIC-LOCATION:Europe/Paris
BEGIN:DAYLIGHT
DTSTART:20220327T030000
TZOFFSETFROM:+0100
TZOFFSETTO:+0200
TZNAME:CEST
END:DAYLIGHT
END:VTIMEZONE
END:VCALENDAR