BEGIN:VCALENDAR
VERSION:2.0
PRODID:-//wp-events-plugin.com//7.2.3.1//EN
TZID:Europe/Paris
X-WR-TIMEZONE:Europe/Paris
BEGIN:VEVENT
UID:2664@cafeculturelcitoyen.org
DTSTART;TZID=Europe/Paris:20240203T200000
DTEND;TZID=Europe/Paris:20240203T220000
DTSTAMP:20240110T104253Z
URL:https://cafeculturelcitoyen.org/evenements/concert-de-los-del-faro/
SUMMARY:Concert de Los del Faro
DESCRIPTION:« Chansons Espagnoles au Tabasco »\n\nLos del Faro est la ren
 contre de quatre musiciens autour de chansons écrites par Pablo Arboles. 
 Une musique joyeuse et rythmée aux sonorités folk. Un road-trip de Grena
 de à\nBourg-en-Bresse.\n\nPablo Arboles (Guitare\, Chant)\nOlivier Macher
 ey (Basse\, Chœur)\nAlexandre Escarguel (Claviers)\nFlorian Bois (Percuss
 ions)\n\nTeaser :\nhttps://m.youtube.com/watch?v=1w3kZSXvet0&amp\;amp\;fe
 ature=youtu.be
ATTACH;FMTTYPE=image/jpeg:https://cafeculturelcitoyen.org/wp-content/uploa
 ds/2024/01/Los-del-Faro-photo-concert.jpg
END:VEVENT
BEGIN:VTIMEZONE
TZID:Europe/Paris
X-LIC-LOCATION:Europe/Paris
BEGIN:STANDARD
DTSTART:20231029T020000
TZOFFSETFROM:+0200
TZOFFSETTO:+0100
TZNAME:CET
END:STANDARD
END:VTIMEZONE
END:VCALENDAR