BEGIN:VCALENDAR
VERSION:2.0
PRODID:-//wp-events-plugin.com//7.2.3.1//EN
TZID:Europe/Paris
X-WR-TIMEZONE:Europe/Paris
BEGIN:VEVENT
UID:1679@cafeculturelcitoyen.org
DTSTART;TZID=Europe/Paris:20220226T203000
DTEND;TZID=Europe/Paris:20220226T223000
DTSTAMP:20220203T141531Z
URL:https://cafeculturelcitoyen.org/evenements/concert-cyril-adda/
SUMMARY:Concert Cyril Adda
DESCRIPTION:« Depuis 2011\, Cyril Adda multiplie les concerts\, partage l
 es scènes et les expériences. En solo ou en groupe\, soutenu par une sec
 tion rythmique influente\, le jazz accompagne l'écriture de ses chansons 
 jusqu’à la sortie de son premier EP A l'étroit paru en 2015. Puis\, un
  virage s'opère : l'acoustique laisse peu à peu place à l'amplifié\, l
 'humour s'estompe au profit d'une chanson plus revendicative et plus sensi
 ble. Cyril Adda met en scène des personnages\, raconte des histoires\, de
 s bouts de chemin de vie que les protagonistes\, témoins de notre époque
  vivent\, nous livrant une certaine réalité sociale. Publié en 2017\, s
 on deuxième EP Epreuves devient le point de départ d'un premier album lo
 ng\, L’îlot paru le 7 février 2020.\n\nDerrière sa guitare ou assis a
 u piano\, Cyril Adda et ses musiciens vous invitent à embarquer pour un v
 oyage musical. Mélangeant les styles\, du rock à la chanson actuelle en 
 passant par des orchestrations plus traditionnelles\, ses mélodies vous t
 ouchent et sa voix vous interpelle. »\n\nhttps://www.youtube.com/watch?v
 =Tj9dGWO4vjc\n\n&nbsp\;
ATTACH;FMTTYPE=image/jpeg:https://cafeculturelcitoyen.org/wp-content/uploa
 ds/2022/02/Sans-titre65.jpg
END:VEVENT
BEGIN:VTIMEZONE
TZID:Europe/Paris
X-LIC-LOCATION:Europe/Paris
BEGIN:STANDARD
DTSTART:20211031T020000
TZOFFSETFROM:+0200
TZOFFSETTO:+0100
TZNAME:CET
END:STANDARD
END:VTIMEZONE
END:VCALENDAR