BEGIN:VCALENDAR
VERSION:2.0
PRODID:-//wp-events-plugin.com//7.2.3.1//EN
TZID:Europe/Paris
X-WR-TIMEZONE:Europe/Paris
BEGIN:VEVENT
UID:1737@cafeculturelcitoyen.org
DTSTART;TZID=Europe/Paris:20220528T210000
DTEND;TZID=Europe/Paris:20220528T233000
DTSTAMP:20220512T154141Z
URL:https://cafeculturelcitoyen.org/evenements/concert-compagnie-cantuscan
 i/
SUMMARY:Concert Amunì
DESCRIPTION:Duo de musiciens Italo-Français\, Lia Di Calogero au chant et 
 à la guitare accompagnée par Mathias Esnault aux guimbardes\, flûtes et
  percussions traditionnelles. Ils tendent l’oreille vers la Sicile – a
 vec son histoire millénaire et ses dialectes – qui continue à vivre à
  travers les textes de Lia Di Calogero. Histoires d’immigration\, de gue
 rre\, de femmes opprimées\, de pères lointains et encore des berceuses e
 t des danses d’amour et de passion. Grâce aux tambours de Theo Esnault 
 et surtout au jeu extraordinaire des guimbardes\, le répertoire s’enric
 hit de sonorités ancestrales et visionnaires qui immergent le public dans
  un espace sans temps\, où le voyage commence dès le premier morceau et 
 reste avec vous.\n\nVidéo en ligne\n\n
ATTACH;FMTTYPE=image/jpeg:https://cafeculturelcitoyen.org/wp-content/uploa
 ds/2022/05/format-wordpress.png
END:VEVENT
BEGIN:VTIMEZONE
TZID:Europe/Paris
X-LIC-LOCATION:Europe/Paris
BEGIN:DAYLIGHT
DTSTART:20220327T030000
TZOFFSETFROM:+0100
TZOFFSETTO:+0200
TZNAME:CEST
END:DAYLIGHT
END:VTIMEZONE
END:VCALENDAR