BEGIN:VCALENDAR
VERSION:2.0
PRODID:-//wp-events-plugin.com//7.2.3.1//EN
TZID:Europe/Paris
X-WR-TIMEZONE:Europe/Paris
BEGIN:VEVENT
UID:1830@cafeculturelcitoyen.org
DTSTART;TZID=Europe/Paris:20220910T203000
DTEND;TZID=Europe/Paris:20220910T220000
DTSTAMP:20220903T092628Z
URL:https://cafeculturelcitoyen.org/evenements/concert-clotilde-chanson-fr
 ancaise-pop-de-nulle-part/
SUMMARY:Les Samedis du 3C : Clotilde\, chanson française pop de nulle part
DESCRIPTION:Connaissez vous l'expression "être nature peinture ? On dit ç
 a de quelqu'un qui est sans filtre\,légèrement brut de décoffrage\, quo
 i. Et bien\, c'est Clotilde avec ses chansons pop de nulle part.\nDes chan
 sons de sa composition tantôt intimes\, tantôt loufoques et barrées\, p
 arfois drôles et piquantes\, et des reprises de chansons françaises conn
 ues.\nQuelques airs traditionnels à écouter ou à danser lieront le tout
  de ci de là.\nSi le cœur vous en dit\, à la fin\, si la bière est bon
 ne\, elle sortira les livrets de parole et c’est\nparti pour le karaoké
  live !\n\nhttps://www.youtube.com/watch?time_continue=5&amp\;v=jF7hmVY6-b
 s&amp\;feature=emb_logo
ATTACH;FMTTYPE=image/jpeg:https://cafeculturelcitoyen.org/wp-content/uploa
 ds/2022/09/Capture-decran-2022-09-01-164526.png
END:VEVENT
BEGIN:VTIMEZONE
TZID:Europe/Paris
X-LIC-LOCATION:Europe/Paris
BEGIN:DAYLIGHT
DTSTART:20220327T030000
TZOFFSETFROM:+0100
TZOFFSETTO:+0200
TZNAME:CEST
END:DAYLIGHT
END:VTIMEZONE
END:VCALENDAR