BEGIN:VCALENDAR
VERSION:2.0
PRODID:-//wp-events-plugin.com//7.2.3.1//EN
TZID:Europe/Paris
X-WR-TIMEZONE:Europe/Paris
BEGIN:VEVENT
UID:822@cafeculturelcitoyen.org
DTSTART;TZID=Europe/Paris:20220518T180000
DTEND;TZID=Europe/Paris:20220518T230000
DTSTAMP:20220425T112615Z
URL:https://cafeculturelcitoyen.org/evenements/concert-classe-jazz-du-cons
 ervatoire-daix/
SUMMARY:Concert: Classe jazz du conservatoire d'Aix
DESCRIPTION:Le mercredi 18 mai\, le 3C reçoit la classe de jazz du conserv
 atoire d'Aix-en-Provence dirigée par Jean-François Bonnel. Au menu du ja
 zz\, du jazz et encore du jazz \; mais pas n'importe lequel ! Du jazz de t
 outes les époques\, et de tous les styles \; du jazz chaud et dansant\, d
 u jazz tendre et feutré\, du jazz riche et complexe\, du jazz sec et nerv
 eux. Bref du jazz pour tous les goûts et les envies !\n\nEt comme le jazz
  ouvre l'appétit\, chacun ramène un petit quelque chose à manger en mod
 e auberge espagnole et on fait tous une petite pause entre 20h30 et 21h po
 ur manger tous ensemble !\n\nDéroulement de la soirée :\n\n18h - 20h30 :
  Première partie.\n\n20h30- 21h : Pause casse-croûte bien méritée.\n\n
 21h - 22h : Deuxième partie.\n\n
ATTACH;FMTTYPE=image/jpeg:https://cafeculturelcitoyen.org/wp-content/uploa
 ds/2017/12/jazz-3C.png
END:VEVENT
BEGIN:VTIMEZONE
TZID:Europe/Paris
X-LIC-LOCATION:Europe/Paris
BEGIN:DAYLIGHT
DTSTART:20220327T030000
TZOFFSETFROM:+0100
TZOFFSETTO:+0200
TZNAME:CEST
END:DAYLIGHT
END:VTIMEZONE
END:VCALENDAR