BEGIN:VCALENDAR
VERSION:2.0
PRODID:-//wp-events-plugin.com//7.2.3.1//EN
TZID:Europe/Paris
X-WR-TIMEZONE:Europe/Paris
BEGIN:VEVENT
UID:1832@cafeculturelcitoyen.org
DTSTART;TZID=Europe/Paris:20220920T203000
DTEND;TZID=Europe/Paris:20220920T220000
DTSTAMP:20220905T075845Z
URL:https://cafeculturelcitoyen.org/evenements/concert-clameurs/
SUMMARY:Concert - Clameurs
DESCRIPTION:Le 3C avait déjà accueilli Sarah Procissi ('Ud) dans son duo 
 avec Julie Lobato. Elle revient dans la formation qu'elle a créée avec J
 ean Christophe Bournine à la contrebasse ténor : Clameurs\n\nUn cri\, au
  sens le plus pur\, qui éclate à chaque concert. CLAMEURS est un appel 
 à la liberté et la création\, qui oscille entre compositions purement a
 coustiques et explorations sonores\, entre la douce caresse du son des ins
 truments à cordes et l'intensité brûlante de la distorsion.\n\nLe duo c
 onfronte les timbres du luth traditionnel arabe et de la contrebasse à ci
 nq cordes dans des compositions aux influences multiples convoquant l'int
 érêt des deux musiciens pour les mesures composées\, les inflexions ext
 ra européennes\, les structures complexes ainsi que leur gout du gros son
  et des musiques lourdes.\n\nL'amplification\, les effets et l’ajout de 
 séquences rythmiques électroniques apportent alors au projet une dimensi
 on résolument moderne et contemporaine. Des aplats de couleurs orientales
 \, lentes et lancinantes\, laissent place à des rythmes abruptes\, séque
 ncés\, distordus.\nJean-Christophe Bournine\, contrebasse à 5 cordes &am
 p\; effets\nSarah Procissi\, oud électro-acoustique\, effets et sampler m
 odulaire\n\n&nbsp\;\n\n&nbsp\;\n\nhttps://www.youtube.com/watch?v=c6Ndzsot
 QdU
ATTACH;FMTTYPE=image/jpeg:https://cafeculturelcitoyen.org/wp-content/uploa
 ds/2022/09/Capture-decran-2022-09-05-095720.jpg
END:VEVENT
BEGIN:VTIMEZONE
TZID:Europe/Paris
X-LIC-LOCATION:Europe/Paris
BEGIN:DAYLIGHT
DTSTART:20220327T030000
TZOFFSETFROM:+0100
TZOFFSETTO:+0200
TZNAME:CEST
END:DAYLIGHT
END:VTIMEZONE
END:VCALENDAR