BEGIN:VCALENDAR
VERSION:2.0
PRODID:-//wp-events-plugin.com//7.2.3.1//EN
TZID:Europe/Paris
X-WR-TIMEZONE:Europe/Paris
BEGIN:VEVENT
UID:2314@cafeculturelcitoyen.org
DTSTART;TZID=Europe/Paris:20230623T193000
DTEND;TZID=Europe/Paris:20230623T203000
DTSTAMP:20230613T115112Z
URL:https://cafeculturelcitoyen.org/evenements/concert-cecile-grace/
SUMMARY:Concert - Cécile Grâce
DESCRIPTION:Avec ses chansons au piano mêlant l'anglais et le français\, 
 Cécile Grace nous transporte dans son univers intimiste et mélancolique.
  Attention talent !
ATTACH;FMTTYPE=image/jpeg:https://cafeculturelcitoyen.org/wp-content/uploa
 ds/2023/06/k8QWdG0Sd6potJoC5zeLA_thumb_47ea.jpg
END:VEVENT
BEGIN:VTIMEZONE
TZID:Europe/Paris
X-LIC-LOCATION:Europe/Paris
BEGIN:DAYLIGHT
DTSTART:20230326T030000
TZOFFSETFROM:+0100
TZOFFSETTO:+0200
TZNAME:CEST
END:DAYLIGHT
END:VTIMEZONE
END:VCALENDAR