BEGIN:VCALENDAR
VERSION:2.0
PRODID:-//wp-events-plugin.com//7.2.3.1//EN
TZID:Europe/Paris
X-WR-TIMEZONE:Europe/Paris
BEGIN:VEVENT
UID:1831@cafeculturelcitoyen.org
DTSTART;TZID=Europe/Paris:20220917T203000
DTEND;TZID=Europe/Paris:20220917T220000
DTSTAMP:20220903T092704Z
URL:https://cafeculturelcitoyen.org/evenements/concert-baron-gabriel/
SUMMARY:Les Samedis du 3C :  Baron Gabriel\, duo Blues
DESCRIPTION:Baron Gabriel est un duo blues composé d'Elie Coquard aux harm
 onicas et de Yan Yalego à la guitare\, au chant et à la percussion péde
 stre. Oscillant entre le blues traditionnel\, le folk et le rock'n'roll de
 s origines\, émaillé de quelques reprises assez décalées de standards 
 plus connus\, l'ensemble tire l'essentiel de ses influences du melting pot
  musical néo-orléanais.
ATTACH;FMTTYPE=image/jpeg:https://cafeculturelcitoyen.org/wp-content/uploa
 ds/2022/09/Capture-decran-2022-09-02-112112.jpg
END:VEVENT
BEGIN:VTIMEZONE
TZID:Europe/Paris
X-LIC-LOCATION:Europe/Paris
BEGIN:DAYLIGHT
DTSTART:20220327T030000
TZOFFSETFROM:+0100
TZOFFSETTO:+0200
TZNAME:CEST
END:DAYLIGHT
END:VTIMEZONE
END:VCALENDAR