BEGIN:VCALENDAR
VERSION:2.0
PRODID:-//wp-events-plugin.com//7.2.3.1//EN
TZID:Europe/Paris
X-WR-TIMEZONE:Europe/Paris
BEGIN:VEVENT
UID:1724@cafeculturelcitoyen.org
DTSTART;TZID=Europe/Paris:20220507T210000
DTEND;TZID=Europe/Paris:20220507T231500
DTSTAMP:20220425T175853Z
URL:https://cafeculturelcitoyen.org/evenements/concert-arthur-burrell/
SUMMARY:Concert The Explorer
DESCRIPTION: Auteur-compositeur interprète Arthur Burrell ( a.k.a The Exp
 lorer ) vient chanter son premier spectacle de compos "Case and Tracks" au
  3C.\nCe one man band est composé d'un chanteur qui s'accompagne avec une
  guitare acoustique\, 2 harmonicas et une valise rythmique. Pendant une he
 ure venez découvrir les sonorités simples\, brutes et authentiques du bl
 ues\, de la folk et de l'americana made in the U.S.
ATTACH;FMTTYPE=image/jpeg:https://cafeculturelcitoyen.org/wp-content/uploa
 ds/2022/04/Sans-titre92.jpg
END:VEVENT
BEGIN:VTIMEZONE
TZID:Europe/Paris
X-LIC-LOCATION:Europe/Paris
BEGIN:DAYLIGHT
DTSTART:20220327T030000
TZOFFSETFROM:+0100
TZOFFSETTO:+0200
TZNAME:CEST
END:DAYLIGHT
END:VTIMEZONE
END:VCALENDAR