BEGIN:VCALENDAR
VERSION:2.0
PRODID:-//wp-events-plugin.com//7.2.3.1//EN
TZID:Europe/Paris
X-WR-TIMEZONE:Europe/Paris
BEGIN:VEVENT
UID:1762@cafeculturelcitoyen.org
DTSTART;TZID=Europe/Paris:20220621T210000
DTEND;TZID=Europe/Paris:20220621T230000
DTSTAMP:20220607T103118Z
URL:https://cafeculturelcitoyen.org/evenements/concert-arroyito-duo/
SUMMARY:Concert - Arroyito Duo
DESCRIPTION:Un duo argentin réunissant Victoria de la Puente (chant) et Ne
 huén Rapoport (guitare et chant)\, pour marier répertoire traditionnel a
 rgentin et compositions propres. C'est le souffle des paysages de l'Argent
 ine\, l'intimité de l'âme latina avec des accents de tango\, que ce trè
 s beau duo nous propose pour la fête de la Musique.
ATTACH;FMTTYPE=image/jpeg:https://cafeculturelcitoyen.org/wp-content/uploa
 ds/2022/06/Capture-decran-2022-06-07-122752.jpg
END:VEVENT
BEGIN:VTIMEZONE
TZID:Europe/Paris
X-LIC-LOCATION:Europe/Paris
BEGIN:DAYLIGHT
DTSTART:20220327T030000
TZOFFSETFROM:+0100
TZOFFSETTO:+0200
TZNAME:CEST
END:DAYLIGHT
END:VTIMEZONE
END:VCALENDAR