BEGIN:VCALENDAR
VERSION:2.0
PRODID:-//wp-events-plugin.com//7.2.3.1//EN
TZID:Europe/Paris
X-WR-TIMEZONE:Europe/Paris
BEGIN:VEVENT
UID:1686@cafeculturelcitoyen.org
DTSTART;TZID=Europe/Paris:20220312T203500
DTEND;TZID=Europe/Paris:20220312T220000
DTSTAMP:20220310T175350Z
URL:https://cafeculturelcitoyen.org/evenements/concert-amannama/
SUMMARY:[ANNULÉ] - Concert AmannamA
DESCRIPTION:NB: Le concert initialement prévu est annulé\, nous aurons un
 e scène ouverte à la place.\n\n\n\nAmannamA a les cheveux bleus et elle 
 fait ce qu’elle veut. Elle fait fleurir ses voyages\, son histoire\, ses
  doutes et ses espoirs dans une musique étrange et syncopée dont le rép
 ertoire s’ancre aux quatre coins du globe\, des Balkans jusqu’en Amér
 ique centrale. De la polyphonie bulgare toute seule avec un looper disco\,
  de l’électro-trad tzigane saturée et bondissante\, des mélopées ara
 bo-andalouses poignantes\, elle chante avec une âme enflammée et joue av
 ec tout le reste.\nhttps://www.youtube.com/watch?v=fb10AqIWFBw\n
ATTACH;FMTTYPE=image/jpeg:https://cafeculturelcitoyen.org/wp-content/uploa
 ds/2022/02/Sans-titre71.jpg
END:VEVENT
BEGIN:VTIMEZONE
TZID:Europe/Paris
X-LIC-LOCATION:Europe/Paris
BEGIN:STANDARD
DTSTART:20211031T020000
TZOFFSETFROM:+0200
TZOFFSETTO:+0100
TZNAME:CET
END:STANDARD
END:VTIMEZONE
END:VCALENDAR