BEGIN:VCALENDAR
VERSION:2.0
PRODID:-//wp-events-plugin.com//7.2.3.1//EN
TZID:Europe/Paris
X-WR-TIMEZONE:Europe/Paris
BEGIN:VEVENT
UID:1824@cafeculturelcitoyen.org
DTSTART;TZID=Europe/Paris:20220903T200000
DTEND;TZID=Europe/Paris:20220903T224500
DTSTAMP:20220830T081549Z
URL:https://cafeculturelcitoyen.org/evenements/concert-amannama-3/
SUMMARY:Concert AmannamA
DESCRIPTION:AmannamA a les cheveux bleus et elle fait ce qu’elle veut. El
 le fait fleurir ses voyages\, son histoire\, ses doutes et ses espoirs dan
 s une musique étrange et syncopée dont le répertoire s’ancre aux quat
 re coins du globe\, des Balkans jusqu’en Amérique centrale. De la polyp
 honie bulgare toute seule avec un looper disco\, de l’électro-trad tzig
 ane saturée et bondissante\, des mélopées arabo-andalouses poignantes\,
  elle chante avec une âme enflammée et joue avec tout le reste.\nhttps:/
 /www.youtube.com/watch?v=fb10AqIWFBw\n
ATTACH;FMTTYPE=image/jpeg:https://cafeculturelcitoyen.org/wp-content/uploa
 ds/2022/02/Sans-titre71.jpg
END:VEVENT
BEGIN:VTIMEZONE
TZID:Europe/Paris
X-LIC-LOCATION:Europe/Paris
BEGIN:DAYLIGHT
DTSTART:20220327T030000
TZOFFSETFROM:+0100
TZOFFSETTO:+0200
TZNAME:CEST
END:DAYLIGHT
END:VTIMEZONE
END:VCALENDAR