BEGIN:VCALENDAR
VERSION:2.0
PRODID:-//wp-events-plugin.com//7.2.3.1//EN
TZID:Europe/Paris
X-WR-TIMEZONE:Europe/Paris
BEGIN:VEVENT
UID:2296@cafeculturelcitoyen.org
DTSTART;TZID=Europe/Paris:20230630T203000
DTEND;TZID=Europe/Paris:20230630T220000
DTSTAMP:20230601T133658Z
URL:https://cafeculturelcitoyen.org/evenements/concert-alakale/
SUMMARY:Concert Alalaké
DESCRIPTION:" Duo intimiste formé par le contrebassiste et oudiste gabonai
 s Abd-Chakûr Boussougou  et le koriste bissau-guinéen Mbady Diabate  d
 escendant de deux générations griottes et fondateur du groupe Les Aigles
  du Mandingue   est à couper le souffle\, tant ils parviennent à se jou
 er des barrières rythmiques et harmoniques strictes de la musique traditi
 onnelle. Ils n’hésitent pas à détourner les instruments de leur usage
  classique et à considérer la voix comme un instrument à part entière 
 pour offrir une poésie musicale chaleureuse\, quelque part entre le jazz\
 , la musique africaine et la musique orientale."\n\n\n\n\n\n\n\n\n\n\n\n\n
 \n\n\nvidéos\n\n\nextrait festival jazz saint Raphael \n\n\nextrait conc
 ert Nice entrepont\n\n\nextrait concert Bozar Bruxelles\nextrait concert B
 ozard 2 Bruxelles\n\nAudios\nhttps://on.soundcloud.com/37oh5\n\n\nhttps://
 on.soundcloud.com/w9uU9\n\n\n sites\n\n\n\nFacebook Duo Alalaké\n\n\n\n\
 n\n\n\n\nhttps://alalakeduo.wixsite.com/my-site-\n\n\n\n\n
ATTACH;FMTTYPE=image/jpeg:https://cafeculturelcitoyen.org/wp-content/uploa
 ds/2023/05/Capture-decran-2023-05-30-102948.png
END:VEVENT
BEGIN:VTIMEZONE
TZID:Europe/Paris
X-LIC-LOCATION:Europe/Paris
BEGIN:DAYLIGHT
DTSTART:20230326T030000
TZOFFSETFROM:+0100
TZOFFSETTO:+0200
TZNAME:CEST
END:DAYLIGHT
END:VTIMEZONE
END:VCALENDAR