BEGIN:VCALENDAR
VERSION:2.0
PRODID:-//wp-events-plugin.com//7.2.3.1//EN
TZID:Europe/Paris
X-WR-TIMEZONE:Europe/Paris
BEGIN:VEVENT
UID:2041@cafeculturelcitoyen.org
DTSTART;TZID=Europe/Paris:20230224T193000
DTEND;TZID=Europe/Paris:20230224T220000
DTSTAMP:20230130T155508Z
URL:https://cafeculturelcitoyen.org/evenements/concert-aitone-avec-jade-la
 my-en-1ere-partie/
SUMMARY:Concert -  Aïtone (avec Jade Lamy en 1ère Partie)
DESCRIPTION:\n\nLa Corse ancrée sous la peau\, la folk\, la britpop\, et l
 e rock progressif sur mon drapeau. Petit\, je rêvais que je planais le lo
 ng des escaliers\, comme un Peter Pan d'appartement. Je suis né en 1987\,
  un mercredi\, à 15h15. Un enfant des 90's. Un enfant perdu qui a pleuré
  à chaudes larmes quand Robin Williams nous a laissé à nos pensées agr
 éables. J'aime écrire\, composer. En français\, en anglais. J'aime les 
 Beatles\, pink Floyd\, Thom Yorke comme Bashung\, Goldman\, ou Ben Mazué.
 \nJ'aime le cinéma de Jarmusch et la beauté d'une fenêtre dessinée à 
 la craie sur le mur d'une prison. J'aime l'humour à l'anglaise\, mais j'a
 i été nourri aux Inconnus\, aux Nuls\, aux Robins Des Bois. Comme Anne S
 ylvestre j'aime les gens qui doutent. J'aime vous partager mes nouveau pro
 jets. Un single pour décembre. Un album peu de temps après. En anglais. 
 Avant le grand saut vers la langue qui m'a bercé. Entrez\, venez partager
  une seconde ou une éternité.\n\n&nbsp\;\n\n\n\n\n\nJade Lamy est une ar
 tiste française de 18 ans.\nAprès avoir très tôt composé et s'être i
 nitiée à plusieurs instruments\, entre 2021 et 2022\, elle se forme  au
  Jazz Studio à Anvers en Belgique où elle enrichi ses connaissances dans
  l'univers du Jazz et de la soul.\nLa même année\, c’est sa rencontre 
 avec le jazzman Ivan Paduart qui lui permet d’explorer et d’affiner le
 s couleurs musicales qui l’accompagneront à travers son style de prédi
 lection: Indie Soul jazz française. \n
ATTACH;FMTTYPE=image/jpeg:https://cafeculturelcitoyen.org/wp-content/uploa
 ds/2023/01/Capture-decran-2023-01-29-214233.png
END:VEVENT
BEGIN:VTIMEZONE
TZID:Europe/Paris
X-LIC-LOCATION:Europe/Paris
BEGIN:STANDARD
DTSTART:20221030T020000
TZOFFSETFROM:+0200
TZOFFSETTO:+0100
TZNAME:CET
END:STANDARD
END:VTIMEZONE
END:VCALENDAR