BEGIN:VCALENDAR
VERSION:2.0
PRODID:-//wp-events-plugin.com//7.2.3.1//EN
TZID:Europe/Paris
X-WR-TIMEZONE:Europe/Paris
BEGIN:VEVENT
UID:1704@cafeculturelcitoyen.org
DTSTART;TZID=Europe/Paris:20220415T203000
DTEND;TZID=Europe/Paris:20220415T213000
DTSTAMP:20220330T144349Z
URL:https://cafeculturelcitoyen.org/evenements/concert-accordemon-cumbia-m
 usette/
SUMMARY:Concert Accordémon (cumbia-musette)
DESCRIPTION:Activiste du soufflet élevé en plein air dans le sud-ouest de
  la France\, Damien alias Accordémon revisite son instrument équipé d'u
 n accordéon électronique avec pédale loop. Son univers "cumbia-musette"
  mélange les sonorités françaises et latino-américaines\, entre java e
 t cumbia\, le tout agrémenté ça et là de sonorités reggae-ska. Un one
 -man-band festif et interactif idéal pour remuer les consciences et réch
 auffer le dancefloor.
ATTACH;FMTTYPE=image/jpeg:https://cafeculturelcitoyen.org/wp-content/uploa
 ds/2022/03/Sans-titre83.jpg
END:VEVENT
BEGIN:VTIMEZONE
TZID:Europe/Paris
X-LIC-LOCATION:Europe/Paris
BEGIN:DAYLIGHT
DTSTART:20220327T030000
TZOFFSETFROM:+0100
TZOFFSETTO:+0200
TZNAME:CEST
END:DAYLIGHT
END:VTIMEZONE
END:VCALENDAR