BEGIN:VCALENDAR
VERSION:2.0
PRODID:-//wp-events-plugin.com//7.2.3.1//EN
TZID:Europe/Paris
X-WR-TIMEZONE:Europe/Paris
BEGIN:VEVENT
UID:2457@cafeculturelcitoyen.org
DTSTART;TZID=Europe/Paris:20231105T180000
DTEND;TZID=Europe/Paris:20231105T193000
DTSTAMP:20231101T171110Z
URL:https://cafeculturelcitoyen.org/evenements/concert-1-vers-2-trop/
SUMMARY:Concert - 1 vers 2 trop
DESCRIPTION:Après mille déboires\, de groupes en bouteilles\, c’est dan
 s le fond du verre que ce duo a fermenté. Entre deux bœufs saucés à la
  bourguignonne est née l’envie d’accoucher de poésies allongées sur
  un lit de musique : en somme de la « poésique ». \nAlors\, trinquer a
 ux vers de Genet et se tâcher d’un rouge Aragon. Rire aux éclats le Ri
 ctus crispé\, Glissant sur les tourments d’Artaud. Et\, marteau\, se br
 ûler les lèvres de sels noirs Baldwin...  La recette est simple : des t
 extes posés sur l’harmonie d’un piano et les cadences de batterie - l
 e tout arrosé d’une voix qui oscille entre spoken words et chanson.
ATTACH;FMTTYPE=image/jpeg:https://cafeculturelcitoyen.org/wp-content/uploa
 ds/2023/11/1V2T-AFFICHE-3C-20231104-2-scaled.jpg
END:VEVENT
BEGIN:VTIMEZONE
TZID:Europe/Paris
X-LIC-LOCATION:Europe/Paris
BEGIN:STANDARD
DTSTART:20231029T020000
TZOFFSETFROM:+0200
TZOFFSETTO:+0100
TZNAME:CET
END:STANDARD
END:VTIMEZONE
END:VCALENDAR