BEGIN:VCALENDAR
VERSION:2.0
PRODID:-//wp-events-plugin.com//7.2.3.1//EN
TZID:Europe/Paris
X-WR-TIMEZONE:Europe/Paris
BEGIN:VEVENT
UID:2380@cafeculturelcitoyen.org
DTSTART;TZID=Europe/Paris:20231025T190000
DTEND;TZID=Europe/Paris:20231025T194500
DTSTAMP:20231022T093702Z
URL:https://cafeculturelcitoyen.org/evenements/combats-et-metamorphose-dun
 e-femme/
SUMMARY:Combats et Métamorphose d'une Femme
DESCRIPTION:Le 3C vous propose « Combats et métamorphoses d’une femme
  » une lecture musicale par Françoise CAUWEL et Jonathan CHATAIGNÉ d’
 après le célèbre roman d’Edouard LOUIS.\nUne  contribution à votre 
 volonté vous sera demandée pour soutenir l’association Solidarité Fem
 mes 13.\n
ATTACH;FMTTYPE=image/jpeg:https://cafeculturelcitoyen.org/wp-content/uploa
 ds/2023/09/Combats-et-Metamorphose.jpg
END:VEVENT
BEGIN:VTIMEZONE
TZID:Europe/Paris
X-LIC-LOCATION:Europe/Paris
BEGIN:DAYLIGHT
DTSTART:20230326T030000
TZOFFSETFROM:+0100
TZOFFSETTO:+0200
TZNAME:CEST
END:DAYLIGHT
END:VTIMEZONE
END:VCALENDAR