BEGIN:VCALENDAR
VERSION:2.0
PRODID:-//wp-events-plugin.com//7.2.3.1//EN
TZID:Europe/Paris
X-WR-TIMEZONE:Europe/Paris
BEGIN:VEVENT
UID:1693@cafeculturelcitoyen.org
DTSTART;TZID=Europe/Paris:20220326T203000
DTEND;TZID=Europe/Paris:20220326T213000
DTSTAMP:20220314T143126Z
URL:https://cafeculturelcitoyen.org/evenements/cocnert-hind-chraibi/
SUMMARY:Concert Hind Chraïbi
DESCRIPTION:\nAprès plusieurs concerts à guichet fermé en hommage à Fay
 rouz et à Oum Kalthoum \, Hind revient avec un nouveau projet de chanson 
 orientale.\nElle décide de réunir dans un même spectacle\, les 4 plus g
 randes divas du chant arabe : Fayrouz et Oum Kalthoum bien sûr\, mais aus
 si Warda et Majida El Roumi .\nDe la chanson égyptienne et de la chanson 
 libanaise donc pour cette grande soirée en perspective!\n\n
ATTACH;FMTTYPE=image/jpeg:https://cafeculturelcitoyen.org/wp-content/uploa
 ds/2022/03/Sans-titre19.png
END:VEVENT
BEGIN:VTIMEZONE
TZID:Europe/Paris
X-LIC-LOCATION:Europe/Paris
BEGIN:STANDARD
DTSTART:20211031T020000
TZOFFSETFROM:+0200
TZOFFSETTO:+0100
TZNAME:CET
END:STANDARD
END:VTIMEZONE
END:VCALENDAR