BEGIN:VCALENDAR
VERSION:2.0
PRODID:-//wp-events-plugin.com//7.2.3.1//EN
TZID:Europe/Paris
X-WR-TIMEZONE:Europe/Paris
BEGIN:VEVENT
UID:1810@cafeculturelcitoyen.org
DTSTART;TZID=Europe/Paris:20220822T130000
DTEND;TZID=Europe/Paris:20220826T170000
DTSTAMP:20220816T122929Z
URL:https://cafeculturelcitoyen.org/evenements/co-working-et-rentree-du-3c
 /
SUMMARY:Co-working et rentrée du 3C
DESCRIPTION:Le 3C fait sa rentrée le 22 août. Pendant cette semaine l'esp
 ace sera consacré au co-working\, grâce à la présence des bénévoles.
 Le co-working fonctionne de 13 à 17h\, après quoi les activités normale
 s du café reprennent\n\nL'espace co-working fonctionnera à l'exception d
 u jeudi 25\, où l'espace sera réservé à nos ami-es de l'association AF
 EV-Aix (Association de la Fondation Étudiante pour la Ville) de 9h à 17h
 \, pour leur séminaire de travail .
ATTACH;FMTTYPE=image/jpeg:https://cafeculturelcitoyen.org/wp-content/uploa
 ds/2022/08/rentree_classe-scaled.jpg
END:VEVENT
BEGIN:VTIMEZONE
TZID:Europe/Paris
X-LIC-LOCATION:Europe/Paris
BEGIN:DAYLIGHT
DTSTART:20220327T030000
TZOFFSETFROM:+0100
TZOFFSETTO:+0200
TZNAME:CEST
END:DAYLIGHT
END:VTIMEZONE
END:VCALENDAR