BEGIN:VCALENDAR
VERSION:2.0
PRODID:-//wp-events-plugin.com//7.2.3.1//EN
TZID:Europe/Paris
X-WR-TIMEZONE:Europe/Paris
BEGIN:VEVENT
UID:1775@cafeculturelcitoyen.org
DTSTART;TZID=Europe/Paris:20220706T170000
DTEND;TZID=Europe/Paris:20220706T183000
DTSTAMP:20220613T150608Z
URL:https://cafeculturelcitoyen.org/evenements/club-des-lecteurs-du-3c-nou
 veau/
SUMMARY:Club des Lecteurs du 3C - nouveau !
DESCRIPTION:Bienvenue\nVous avez envie de discuter des Fourberies de Scapin
  ou du dernier Parker-Chan ? Un livre vous a fait du bien et vous aimeriez
  le partager ? Alors venez au Club des Lecteurs du 3C !\nNous vous proposo
 ns un moment d'échange autour d'un café pour discuter entre lecteurs ou 
 vous donner envie de plonger dans ce loisir !\nPas besoin de vous forcer 
 à finir un livre absolument ! Les petits lecteurs sont les bienvenus pour
  nous parler de leurs trouvailles !\nÇa vous intéresse ?\nÇa se passe l
 e 6 juillet à 17h !\nVenez nombreux.ses !"
ATTACH;FMTTYPE=image/jpeg:https://cafeculturelcitoyen.org/wp-content/uploa
 ds/2022/06/FB-club-lecture.png
END:VEVENT
BEGIN:VTIMEZONE
TZID:Europe/Paris
X-LIC-LOCATION:Europe/Paris
BEGIN:DAYLIGHT
DTSTART:20220327T030000
TZOFFSETFROM:+0100
TZOFFSETTO:+0200
TZNAME:CEST
END:DAYLIGHT
END:VTIMEZONE
END:VCALENDAR