BEGIN:VCALENDAR
VERSION:2.0
PRODID:-//wp-events-plugin.com//7.2.3.1//EN
TZID:Europe/Paris
X-WR-TIMEZONE:Europe/Paris
BEGIN:VEVENT
UID:2247@cafeculturelcitoyen.org
DTSTART;TZID=Europe/Paris:20230421T203000
DTEND;TZID=Europe/Paris:20230421T220000
DTSTAMP:20230327T204726Z
URL:https://cafeculturelcitoyen.org/evenements/chloe-et-les-vaillantes-con
 cert/
SUMMARY:Chloé et les Vaillantes - Concert
DESCRIPTION:Chloe et les Vaillantes est un groupe de musique Franco - Suiss
 e qui s’est formé en été 2021 à Bern.  Avec une instrumentation ori
 ginale\, composée de guitare\, violon\, Hackbrett\, contrebasse et des ha
 rmonies vocales poignantes\, Ils créent une atmosphère qui invite au voy
 age à travers les émotions et la beauté des paysages sonores. Tantôt c
 almes\, tantôt sauvages\, leurs mélodies et paroles vous transporteront 
 là où on trouve la nature\, l’amour\, l'être humain et le chemin de l
 a vie avec ses hauts et ses bas.
ATTACH;FMTTYPE=image/jpeg:https://cafeculturelcitoyen.org/wp-content/uploa
 ds/2023/03/Capture-decran-2023-03-27-224624.png
END:VEVENT
BEGIN:VTIMEZONE
TZID:Europe/Paris
X-LIC-LOCATION:Europe/Paris
BEGIN:DAYLIGHT
DTSTART:20230326T030000
TZOFFSETFROM:+0100
TZOFFSETTO:+0200
TZNAME:CEST
END:DAYLIGHT
END:VTIMEZONE
END:VCALENDAR