BEGIN:VCALENDAR
VERSION:2.0
PRODID:-//wp-events-plugin.com//7.2.3.1//EN
TZID:Europe/Paris
X-WR-TIMEZONE:Europe/Paris
BEGIN:VEVENT
UID:2311@cafeculturelcitoyen.org
DTSTART;TZID=Europe/Paris:20230623T210000
DTEND;TZID=Europe/Paris:20230623T223000
DTSTAMP:20230610T072834Z
URL:https://cafeculturelcitoyen.org/evenements/charlotte-simonot-abrazo/
SUMMARY:Charlotte Simonot - Abrazo
DESCRIPTION:\nAuteure\, conteuse et musicienne\,  Charlotte Simonot porte 
 un spectacle intimiste qui réunit conte et musique : ABRAZO.\n\n\nABRAZO 
 est un concert tendresse inspiré de Cuba qui rassemble un répertoire de 
 compositions au ukulélé et à la voix ainsi que des contes. Une invitati
 on au voyage chaleureuse dans un registre épuré. Un format atypique où 
 l'artiste invite autant la grâce de la musique que les thèmes féministe
 s des paroles.\nUn spectacle rare.
ATTACH;FMTTYPE=image/jpeg:https://cafeculturelcitoyen.org/wp-content/uploa
 ds/2023/06/ABRAZO-2.jpg
END:VEVENT
BEGIN:VTIMEZONE
TZID:Europe/Paris
X-LIC-LOCATION:Europe/Paris
BEGIN:DAYLIGHT
DTSTART:20230326T030000
TZOFFSETFROM:+0100
TZOFFSETTO:+0200
TZNAME:CEST
END:DAYLIGHT
END:VTIMEZONE
END:VCALENDAR