BEGIN:VCALENDAR
VERSION:2.0
PRODID:-//wp-events-plugin.com//7.2.3.1//EN
TZID:Europe/Paris
X-WR-TIMEZONE:Europe/Paris
BEGIN:VEVENT
UID:1932@cafeculturelcitoyen.org
DTSTART;TZID=Europe/Paris:20221110T180000
DTEND;TZID=Europe/Paris:20221110T193000
DTSTAMP:20221029T100216Z
URL:https://cafeculturelcitoyen.org/evenements/chant-pour-tous-atelier-imp
 ro-exceptionnel/
SUMMARY:Chant pour tous - atelier impro exceptionnel !
DESCRIPTION:Un Chant pour tous est une animation de chant improvisé gratui
 te\, accessible à tous-tes\, sans autre instrument que nos corps/voix !\n
 A l’origine de chant pour tous\, il y a avant tout l’œuvre de Bobby M
 cFerrin. Souvent connu pour « Don’t worry be happy »\, trop rarement p
 our ses talents exceptionnels d’improvisateur\, sa virtuosité\, son hum
 our et sa générosité\, c’est lui qui a popularisé les «CircleSongs 
 » et inspiré des chanteurs et vocalistes du monde entier à complètemen
 t repenser leur façon d’utiliser la voix.\nLa philosophie du Chant pour
  tous :\ngratuit\,\nouvert à tous\,\n100% improvisé et\n100% vocal et co
 rporel\n\n\nNotre animateur :\n"C’est la pratique du chant harmonique\, 
 que je découvre en 2011\, qui réveille en moi une grande curiosité à p
 ropos de la voix et de ses possibilités. La découverte des Chant pour To
 us à Lyon en 2016 m’a propulsé vers la pratique de l’impro vocale et
  surtout vers la recherche des moyens pédagogiques pour le partager de fa
 çon efficace\, simple et joyeuse". "\n\n\n\nPrésentation en page d'accue
 il : https://www.chantpourtous.com/\n\n\nun début de soirée d'exception.
 \n
ATTACH;FMTTYPE=image/jpeg:https://cafeculturelcitoyen.org/wp-content/uploa
 ds/2022/10/Capture-decran-2022-10-19-115916.png
END:VEVENT
BEGIN:VTIMEZONE
TZID:Europe/Paris
X-LIC-LOCATION:Europe/Paris
BEGIN:STANDARD
DTSTART:20221030T020000
TZOFFSETFROM:+0200
TZOFFSETTO:+0100
TZNAME:CET
END:STANDARD
END:VTIMEZONE
END:VCALENDAR