BEGIN:VCALENDAR
VERSION:2.0
PRODID:-//wp-events-plugin.com//7.2.3.1//EN
TZID:Europe/Paris
X-WR-TIMEZONE:Europe/Paris
BEGIN:VEVENT
UID:2331@cafeculturelcitoyen.org
DTSTART;TZID=Europe/Paris:20230728T203000
DTEND;TZID=Europe/Paris:20230728T220000
DTSTAMP:20230727T160129Z
URL:https://cafeculturelcitoyen.org/evenements/chansons-en-circuit-court-m
 arianne-masson-et-remy-tarrier/
SUMMARY:Chansons en circuit court - Marianne Masson et Rémy Tarrier
DESCRIPTION:Je m’appelle Marianne Masson\, j’aime écrire des poèmes\,
  surtout\, et des chansons beaucoup ! Petites explorations de l’intime
 … émotions voyageuses en partage…\n\n« Tout un univers de chansons 
 dont se dégage une poésie toute de simplicité\, de naturel\, de spontan
 éité qui touche par sa pureté et son humour fréquent\, lequel tente de
  dissimuler un fonds d’inquiétude\, de nostalgie parfois\, de mélancol
 ique tendresse souvent. »\n\nAvec Rémy Tarrier\, auteur compositeur int
 erprète\, nous viendrons vivre avec vous\,  pendant une heure et demi en
  deux sets\, nos créations respectives.\n\n« Sous son air de ne pas y 
 toucher\, un poil nonchalant\, ce garçon a bien des choses à raconter. R
 émy cultive avec bonheur\, tout à la fois l’humour\, l’amour\, la m
 élancolie\, et réserve quelques coups de griffes  – toujours allègre
 s – à la société de consommation. Des chansons qui fourmillent de ric
 hesse langagière ».\n\nPatrick Pernet\, musicien arrangeur compositeur\
 ,  nous accompagne au piano.
ATTACH;FMTTYPE=image/jpeg:https://cafeculturelcitoyen.org/wp-content/uploa
 ds/2023/07/chansons-en-circuit-court-2.jpg
END:VEVENT
BEGIN:VTIMEZONE
TZID:Europe/Paris
X-LIC-LOCATION:Europe/Paris
BEGIN:DAYLIGHT
DTSTART:20230326T030000
TZOFFSETFROM:+0100
TZOFFSETTO:+0200
TZNAME:CEST
END:DAYLIGHT
END:VTIMEZONE
END:VCALENDAR