BEGIN:VCALENDAR
VERSION:2.0
PRODID:-//wp-events-plugin.com//7.2.3.1//EN
TZID:Europe/Paris
X-WR-TIMEZONE:Europe/Paris
BEGIN:VEVENT
UID:1639@cafeculturelcitoyen.org
DTSTART;TZID=Europe/Paris:20220511T180000
DTEND;TZID=Europe/Paris:20220511T190000
DTSTAMP:20220422T093157Z
URL:https://cafeculturelcitoyen.org/evenements/cercle-de-femmes/
SUMMARY:Cercle de femmes
DESCRIPTION:Un cercle de femmes ouvert à toutes celles qui désirent écha
 nger sur des sujets tels que la sexualité\, le couple\, la place des femm
 es dans la société\, la maternité etc. Un cercle de femmes pour se ren
 contrer\, pour nous retrouver\, pour laisser libre cours à une parole hab
 ituellement contrainte par les injonctions sociales et peut-être aussi pa
 r la crainte.\nUne fois par mois au Café culturel citoyen - le 3C à Aix-
 En-Provence.
ATTACH;FMTTYPE=image/jpeg:https://cafeculturelcitoyen.org/wp-content/uploa
 ds/2021/11/90ED4E44-CE53-44DD-98E5-55CB19058A57-e1637682257588.jpeg
END:VEVENT
BEGIN:VTIMEZONE
TZID:Europe/Paris
X-LIC-LOCATION:Europe/Paris
BEGIN:DAYLIGHT
DTSTART:20220327T030000
TZOFFSETFROM:+0100
TZOFFSETTO:+0200
TZNAME:CEST
END:DAYLIGHT
END:VTIMEZONE
END:VCALENDAR