BEGIN:VCALENDAR
VERSION:2.0
PRODID:-//wp-events-plugin.com//7.2.3.1//EN
TZID:Europe/Paris
X-WR-TIMEZONE:Europe/Paris
BEGIN:VEVENT
UID:2307@cafeculturelcitoyen.org
DTSTART;TZID=Europe/Paris:20230617T180000
DTEND;TZID=Europe/Paris:20230617T200000
DTSTAMP:20230606T123950Z
URL:https://cafeculturelcitoyen.org/evenements/cercle-de-femmes-salle-hamm
 am-3/
SUMMARY:Cercle de femmes (salle hammam)
DESCRIPTION:Un cercle de femmes ouvert à toutes celles qui désirent écha
 nger sur des sujets tels que la sexualité\, le couple\, la place des femm
 es dans la société\, la maternité etc. Un cercle de femmes pour se ren
 contrer\, pour nous retrouver\, pour laisser libre cours à une parole hab
 ituellement contrainte par les injonctions sociales et peut-être aussi pa
 r la crainte.\nUne fois par mois au Café culturel citoyen - le 3C à Aix-
 En-Provence.\nExceptionnellement pour les 10 ans\, le café sera fermé et
  le cercle du mois de juin se déroulera en extérieur.
ATTACH;FMTTYPE=image/jpeg:https://cafeculturelcitoyen.org/wp-content/uploa
 ds/2022/06/Illustration_feministe_sororite.webp
END:VEVENT
BEGIN:VTIMEZONE
TZID:Europe/Paris
X-LIC-LOCATION:Europe/Paris
BEGIN:DAYLIGHT
DTSTART:20230326T030000
TZOFFSETFROM:+0100
TZOFFSETTO:+0200
TZNAME:CEST
END:DAYLIGHT
END:VTIMEZONE
END:VCALENDAR