BEGIN:VCALENDAR
VERSION:2.0
PRODID:-//wp-events-plugin.com//7.2.3.1//EN
TZID:Europe/Paris
X-WR-TIMEZONE:Europe/Paris
BEGIN:VEVENT
UID:2376@cafeculturelcitoyen.org
DTSTART;TZID=Europe/Paris:20231007T190000
DTEND;TZID=Europe/Paris:20231007T200000
DTSTAMP:20230926T213020Z
URL:https://cafeculturelcitoyen.org/evenements/carte-blanche-pour-eric-mar
 ia-couturier-suites-de-j-s-bach-et-improvisations-orientales/
SUMMARY:Carte blanche à Eric-Maria Couturier\, Suites de J.S. Bach et impr
 ovisations orientales
DESCRIPTION:Le 3C a la chance d'accueillir le violoncelliste de renom Eric-
 Maria Couturier de passage à Aix. Il interprètera les préludes des cél
 èbres Suites pour violoncelle seul de J.S. Bach\, enrichies d'improvisati
 ons orientales.\n\nArtiste polymorphe et virtuose\, aux nombreuses collabo
 rations\, Eric-Maria Couturier se produit régulièrement sur les grandes 
 scènes internationales en solo\, en musique de chambre au sein du trio Ta
 lweg\, ou encore avec l'Ensemble intercontemporain qu'il a rejoint en 2002
 .\n\nNe manquez pas cette occasion unique !\n&gt\;&gt\; accueil dès 18h30
 \n\nEn partenariat avec www.echo-in.live\n\nCrédit photo : Amandine Lauri
 ol
ATTACH;FMTTYPE=image/jpeg:https://cafeculturelcitoyen.org/wp-content/uploa
 ds/2023/09/credit-photo_Amandine-Lauriol.jpg
END:VEVENT
BEGIN:VTIMEZONE
TZID:Europe/Paris
X-LIC-LOCATION:Europe/Paris
BEGIN:DAYLIGHT
DTSTART:20230326T030000
TZOFFSETFROM:+0100
TZOFFSETTO:+0200
TZNAME:CEST
END:DAYLIGHT
END:VTIMEZONE
END:VCALENDAR