BEGIN:VCALENDAR
VERSION:2.0
PRODID:-//wp-events-plugin.com//7.2.3.1//EN
TZID:Europe/Paris
X-WR-TIMEZONE:Europe/Paris
BEGIN:VEVENT
UID:2615@cafeculturelcitoyen.org
DTSTART;TZID=Europe/Paris:20240131T170000
DTEND;TZID=Europe/Paris:20240131T190000
DTSTAMP:20231207T125006Z
URL:https://cafeculturelcitoyen.org/evenements/cafe-vieilles-et-vieux/
SUMMARY:Café Vieilles et Vieux
DESCRIPTION:Les vieux et les futurs vieux/vieilles ne sont jamais consulté
 s pour définir l’environnement dans lequel ils souhaitent vieillir. Tro
 p souvent les décisions prises ne prennent pas en compte leur aspiration 
 à vieillir dans le respect de leur indépendance. Trop souvent\, la vieil
 lesse n’est appréciée qu’à travers le prisme médical. Il est temps
  que les choix de société pour les vieux/vieilles en termes d’habitat\
 , de mobilité\, de culture\, de finance\, d’accès aux droits et aux so
 ins soient pris par et avec les premiers intéressés.\nC’est la raison 
 pour laquelle le Comité National Auto-proclamé de la Vieillesse a été 
 créé en 2021 (CNaV - https://www.cnav-demain.fr/ )\n\nL’esprit CNaV co
 nsite à impulser un autre regard sur la vieillesse et les vieux : un reg
 ard inclusif\, égalitaire\, fraternel et respectueux de la liberté et de
  l’identité de chacun\, dans la continuité de son histoire singulière
  et de ses grands choix de vie.\n\nLe contre salon des vieilles et des vie
 ux a eu lieu à Paris au mois de novembre 2023.\nC’est dans cet esprit q
 ue cette première rencontre est organisée : lieu de questionnement\, de 
 partage d’expériences\,  peut-être d’actions\, et surtout de bonne 
 humeur\,  dont nous ferons ce que nous voulons.\n\nLe café est animé pa
 r Gilda Derouet avec la participation de Jacqueline Ripart\, déléguée r
 égionale du CNaV
ATTACH;FMTTYPE=image/jpeg:https://cafeculturelcitoyen.org/wp-content/uploa
 ds/2023/12/TEST.jpg
END:VEVENT
BEGIN:VTIMEZONE
TZID:Europe/Paris
X-LIC-LOCATION:Europe/Paris
BEGIN:STANDARD
DTSTART:20231029T020000
TZOFFSETFROM:+0200
TZOFFSETTO:+0100
TZNAME:CET
END:STANDARD
END:VTIMEZONE
END:VCALENDAR