BEGIN:VCALENDAR
VERSION:2.0
PRODID:-//wp-events-plugin.com//7.2.3.1//EN
TZID:Europe/Paris
X-WR-TIMEZONE:Europe/Paris
BEGIN:VEVENT
UID:2135@cafeculturelcitoyen.org
DTSTART;TZID=Europe/Paris:20230320T190000
DTEND;TZID=Europe/Paris:20230320T210000
DTSTAMP:20230320T135144Z
URL:https://cafeculturelcitoyen.org/evenements/cafe-transition-soiree-spec
 iale-fresque-du-climat/
SUMMARY:Café Transition et fresque du Climat : Annulés
DESCRIPTION:Édition spéciale du café transition : Animation de la Fresqu
 e du Climat par Yasmine Cherik\n\n"Il est nécessaire de bien comprendre u
 n problème pour y apporter des solutions et passer à l’action. En 3 an
 s\, la Fresque du Climat est devenue l’outil de référence pour permett
 re aux individus et organisations de s’approprier le défi des changemen
 ts climatiques."\n\nPour vous inscrire : https://framadate.org/XohMTCa8OL8
 PuSZm\n\n&nbsp\;\nVenez découvir et participer au mouvement citoyen Pays 
 d'Aix en Transition - https://www.facebook.com/aixtransition/\nLe collecti
 f "Pays d'Aix en Transition" œuvre localement en faveur d'une société p
 lus humaine\, écologique\, résiliente et démocratique. Nos groupes thé
 matiques travaillent développent des projets citoyens locaux autour de la
  permaculture\, l'alimentation locale\, l'économie locale\, des transport
 s doux\, la sobriété...\nOuvert à tout le monde\nPour participer à la 
 soirée l'adhésion au 3C est obligatoire (prix libre) et il est recommand
 é de consommer une boisson.\n
ATTACH;FMTTYPE=image/jpeg:https://cafeculturelcitoyen.org/wp-content/uploa
 ds/2023/02/Capture-decran-2023-03-20-142203.jpg
END:VEVENT
BEGIN:VTIMEZONE
TZID:Europe/Paris
X-LIC-LOCATION:Europe/Paris
BEGIN:STANDARD
DTSTART:20221030T020000
TZOFFSETFROM:+0200
TZOFFSETTO:+0100
TZNAME:CET
END:STANDARD
END:VTIMEZONE
END:VCALENDAR