BEGIN:VCALENDAR
VERSION:2.0
PRODID:-//wp-events-plugin.com//7.2.3.1//EN
TZID:Europe/Paris
X-WR-TIMEZONE:Europe/Paris
BEGIN:VEVENT
UID:1767@cafeculturelcitoyen.org
DTSTART;TZID=Europe/Paris:20220620T190000
DTEND;TZID=Europe/Paris:20220620T213000
DTSTAMP:20220608T131511Z
URL:https://cafeculturelcitoyen.org/evenements/cafe-transition-8/
SUMMARY:Café Transition
DESCRIPTION:Café Transition: "Et si...on libérait notre imagination pour 
 créer le futur que nous voulons ?"\n\nVenez découvrir et participer au m
 ouvement citoyen Pays d'Aix en Transition\n\nLe collectif "Pays d'Aix en T
 ransition" œuvre localement en faveur d'une société plus humaine\, éco
 logique\, résiliente et démocratique. Nos groupes thématiques travaille
 nt développent des projets citoyens locaux autour de la permaculture\, l'
 alimentation locale\, l'économie locale\, des transports doux\, la sobri
 été...\n\nOuvert à tout le monde
ATTACH;FMTTYPE=image/jpeg:https://cafeculturelcitoyen.org/wp-content/uploa
 ds/2022/06/Capture-decran-2022-06-08-135840.jpg
END:VEVENT
BEGIN:VTIMEZONE
TZID:Europe/Paris
X-LIC-LOCATION:Europe/Paris
BEGIN:DAYLIGHT
DTSTART:20220327T030000
TZOFFSETFROM:+0100
TZOFFSETTO:+0200
TZNAME:CEST
END:DAYLIGHT
END:VTIMEZONE
END:VCALENDAR