BEGIN:VCALENDAR
VERSION:2.0
PRODID:-//wp-events-plugin.com//7.2.3.1//EN
TZID:Europe/Paris
X-WR-TIMEZONE:Europe/Paris
BEGIN:VEVENT
UID:1743@cafeculturelcitoyen.org
DTSTART;TZID=Europe/Paris:20220516T190000
DTEND;TZID=Europe/Paris:20220516T234500
DTSTAMP:20220515T085837Z
URL:https://cafeculturelcitoyen.org/evenements/cafe-transition-7/
SUMMARY:Café Transition
DESCRIPTION:Café Transtion: "Et si...on libérait notre imagination pour c
 réer le futur que nous voulons ?"\nVenez découvrir et participer au mouv
 ement citoyen Pays d'Aix en Transition\nLe collectif "Pays d'Aix en Transi
 tion" œuvre localement en faveur d'une société plus humaine\, écologiq
 ue\, résiliente et démocratique. Nos groupes thématiques travaillent d
 éveloppent des projets citoyens locaux autour de la permaculture\, l'alim
 entation locale\, l'économie locale\, des transports doux\, la sobriété
 ...\nOuvert à tout le monde\n
ATTACH;FMTTYPE=image/jpeg:https://cafeculturelcitoyen.org/wp-content/uploa
 ds/2020/07/Sans-titre74.jpg
END:VEVENT
BEGIN:VTIMEZONE
TZID:Europe/Paris
X-LIC-LOCATION:Europe/Paris
BEGIN:DAYLIGHT
DTSTART:20220327T030000
TZOFFSETFROM:+0100
TZOFFSETTO:+0200
TZNAME:CEST
END:DAYLIGHT
END:VTIMEZONE
END:VCALENDAR