BEGIN:VCALENDAR
VERSION:2.0
PRODID:-//wp-events-plugin.com//7.2.3.1//EN
TZID:Europe/Paris
X-WR-TIMEZONE:Europe/Paris
BEGIN:VEVENT
UID:2600@cafeculturelcitoyen.org
DTSTART;TZID=Europe/Paris:20231219T200000
DTEND;TZID=Europe/Paris:20231219T220000
DTSTAMP:20231128T094331Z
URL:https://cafeculturelcitoyen.org/evenements/cafe-philo-vivons-nous-vrai
 ment-en-democratie/
SUMMARY:Café Philo - Vivons nous vraiment en démocratie ?
DESCRIPTION:Nous sommes à un moment de notre histoire où nous savons que 
 l’orientation prise par\nla société amène vers des lendemains malheur
 eux\, et pourtant nous nous sentons\ncollectivement impuissants à en infl
 échir la course.\n\nEt ceci\, alors même que nous ne sommes pas ficelés
  dans une dictature mais vivons\ndans un État démocratique\, c’est-à-
 dire en lequel on peut au moins débattre du bien\ncommun et choisir ses g
 ouvernants.\n\nComment comprendre que le peuple\, dont il est dit dans not
 re Constitution (art.2) : «  le\ngouvernement du peuple\, par le peuple
  et pour le peuple »\, se laisse conduire vers une\nsituation dont il sa
 it qu’elle ne peut qu’additionner les désastres ? Et ceci malgré l
 ’exemple\nde belles volontés\, manifestées dans de nombreux mouvements
  de protestation et de\ndissidence\, pour aller vers une société humaine
 ment désirable.\n\nC’est ce phénomène historique d’impuissance comm
 une que nous proposons de mettre\nen débat.\n\nLa question qui est propos
 ée est un enjeu essentiel de notre présent. Mais parce qu’elle\nest pa
 ssionnante\, nous prendrons garde de ne pas nous enferrer dans le négatif
 \, c’est-à-dire dans la récrimination sans fin à l’encontre d’un 
 ou de plusieurs.\n\nCe que nous ambitionnons c’est\, ensemble\, d’essa
 yer mieux comprendre comment on a\npu en arriver à cette situation d’im
 passe. Quels sont les mécanismes sociaux\, les relations à autrui\, mais
  aussi à soi-même\, qui ont amené à cette impuissance.\n\nPour cela no
 us serons aussi attentifs à la clarté des mots que nous partagerons\, m
 ême\nsi ‒ surtout si ‒ ils sont fortement investis socialement : lib
 erté\, peuple\, démocratie\, ...\nComme disait Spinoza : « Ni pleurer\
 , ni rire\, ni maudire\, mais comprendre ! »\n\nCar comprendre une situa
 tion qui paraît bloquée\, n’est-ce pas la seule voie pour\nrecouvrer s
 a puissance d’agir sur cette situation ?
ATTACH;FMTTYPE=image/jpeg:https://cafeculturelcitoyen.org/wp-content/uploa
 ds/2023/03/philo.jpg
END:VEVENT
BEGIN:VTIMEZONE
TZID:Europe/Paris
X-LIC-LOCATION:Europe/Paris
BEGIN:STANDARD
DTSTART:20231029T020000
TZOFFSETFROM:+0200
TZOFFSETTO:+0100
TZNAME:CET
END:STANDARD
END:VTIMEZONE
END:VCALENDAR