BEGIN:VCALENDAR
VERSION:2.0
PRODID:-//wp-events-plugin.com//7.2.3.1//EN
TZID:Europe/Paris
X-WR-TIMEZONE:Europe/Paris
BEGIN:VEVENT
UID:1938@cafeculturelcitoyen.org
DTSTART;TZID=Europe/Paris:20221115T200000
DTEND;TZID=Europe/Paris:20221115T220000
DTSTAMP:20221026T135935Z
URL:https://cafeculturelcitoyen.org/evenements/cafe-philo-sujet-a-venir/
SUMMARY:Café Philo - Vivons-nous dans une société addictive ?
DESCRIPTION:Vivons-nous dans une société addictive ?\nAussi loin que l
 ’on connaisse leur histoire\, les humains paraissent toujours avoir\nacc
 epté la possibilité de consommer certaines substances pour leur effet de
  modification de\nla perception de la réalité.\nMais il faut constater 
 également que ces substances « psychoactives » ont pris une\nplace sa
 ns précédent par son ampleur dans le monde contemporain\, comme si elles
  étaient\npartie prenante du fameux progrès par lequel l’avènement de
  notre civilisation technico-\nindustrielle se légitime.\nD’ailleurs\, 
 n’est-ce pas effectivement un progrès que ces substances puissent effac
 er la\ndouleur\, par exemple lors des interventions chirurgicales ?\nPourt
 ant on sait aussi que les substances psychoactives tendent à engendrer un
 e\ndépendance qui ligote la liberté humaine\, comme on le voit communém
 ent dans l’alcoolisme\nou le tabagisme. Elles sont addictives.\nLe fait 
 que notre société offre une extraordinaire extension et diversification 
 des usages\nde telles substances n’est-elle pas une menace pour la maît
 rise de son avenir ?\nCe qu’on appelle « la société de consommation
  » ne serait-elle pas\, par nature\, une\nsociété addictive ?
ATTACH;FMTTYPE=image/jpeg:https://cafeculturelcitoyen.org/wp-content/uploa
 ds/2022/09/Image2.jpg
END:VEVENT
BEGIN:VTIMEZONE
TZID:Europe/Paris
X-LIC-LOCATION:Europe/Paris
BEGIN:STANDARD
DTSTART:20221030T020000
TZOFFSETFROM:+0200
TZOFFSETTO:+0100
TZNAME:CET
END:STANDARD
END:VTIMEZONE
END:VCALENDAR