BEGIN:VCALENDAR
VERSION:2.0
PRODID:-//wp-events-plugin.com//7.2.3.1//EN
TZID:Europe/Paris
X-WR-TIMEZONE:Europe/Paris
BEGIN:VEVENT
UID:2306@cafeculturelcitoyen.org
DTSTART;TZID=Europe/Paris:20230621T200000
DTEND;TZID=Europe/Paris:20230621T213000
DTSTAMP:20230613T115223Z
URL:https://cafeculturelcitoyen.org/evenements/cafe-philo-sujet-a-venir-2/
SUMMARY:Café Philo - Sortir de l’activisme ?
DESCRIPTION:Supposons que quelque entité vivante extra-terrestre\, depuis 
 quelque exoplanète\,\npuisse observer avec un puissant appareil grossissa
 nt ce qui se passe sur la planète\nTerre. Elle ne pourrait alors que cons
 tater la transformation rapide\, inexorable\, de la\nsurface de cette plan
 ète sous l’effet de l’activité sans fin d’une espèce particulièr
 e !\nNous savons qu’il s’agit de l’espèce humaine.\nL’espèce hum
 aine apparaît ainsi objectivement\, à l’échelle de la planète\, acti
 viste.\nL’activisme prend ici sa signification la plus large\, celle d
 ’une activité qui n’a pas de\nfin – dans les deux sens du mot « f
 in »\, à la fois qui ne se termine jamais\, et qui n’est\njamais cont
 entée par un but.\nAujourd’hui\, l’activisme humain en est arrivé à
  un point tel qu’il s’accélère en se\nnourrissant des ravages qu’i
 l a causés. C’est ainsi qu’on s’affaire à implanter des mega-\nbas
 sines\, des giga-entrepôts logistiques\, des giga-factories de constructi
 ons de\nbatteries\, etc.\nQuel est le moteur d’un tel activisme humain 
 au détriment de son environnement\nnaturel ?\nL’activité humaine ne pe
 ut-elle pas avoir d’autres sens que cet activisme suicidaire ?
ATTACH;FMTTYPE=image/jpeg:https://cafeculturelcitoyen.org/wp-content/uploa
 ds/2023/03/philo.jpg
END:VEVENT
BEGIN:VTIMEZONE
TZID:Europe/Paris
X-LIC-LOCATION:Europe/Paris
BEGIN:DAYLIGHT
DTSTART:20230326T030000
TZOFFSETFROM:+0100
TZOFFSETTO:+0200
TZNAME:CEST
END:DAYLIGHT
END:VTIMEZONE
END:VCALENDAR