BEGIN:VCALENDAR
VERSION:2.0
PRODID:-//wp-events-plugin.com//7.2.3.1//EN
TZID:Europe/Paris
X-WR-TIMEZONE:Europe/Paris
BEGIN:VEVENT
UID:2362@cafeculturelcitoyen.org
DTSTART;TZID=Europe/Paris:20231017T200000
DTEND;TZID=Europe/Paris:20231017T213000
DTSTAMP:20230907T164045Z
URL:https://cafeculturelcitoyen.org/evenements/cafe-philo-pourquoi-tant-de
 cologisme-et-si-peu-decologie/
SUMMARY:Café Philo - Pourquoi tant d’écologisme et si peu d’écologie
  ?
DESCRIPTION:L’« écologisme » est une idéologie\, autrement dit un mou
 vement d’idées qui s’impose dans la société comme une certaine visi
 on du bien commun. Pour l’écologisme\, le bien commun est dans une réc
 onciliation de l’humanité avec son environnement naturel.\nL’« écol
 ogie » est ici la prise en compte de l’ensemble des règles de comporte
 ments que nous dicte notre connaissance du fonctionnement de la biosphère
 \, dont la vitalité conditionne l’avenir de notre\nespèce.\nIl s’agi
 ra pour nous d’explorer les voies pour surmonter le paradoxe contemporai
 n d’un écologisme omniprésent dans les discours\, alors que les compor
 tements humains piétinent\, plus que jamais\, les règles de l’écologi
 e.\nFaut-il se contenter d’incriminer une caste d’affairistes irrespon
 sables ? Le surinvestissement moderne des sciences et techniques ? Deux si
 ècles d’industrialisation forcenée de l’économie ?\nN’y a-t-il pa
 s des facteurs qui pourraient tous nous\, citoyens\, nous concerner\, en c
 e qu’ils\nimpliquent notre liberté ?
ATTACH;FMTTYPE=image/jpeg:https://cafeculturelcitoyen.org/wp-content/uploa
 ds/2023/03/philo.jpg
END:VEVENT
BEGIN:VTIMEZONE
TZID:Europe/Paris
X-LIC-LOCATION:Europe/Paris
BEGIN:DAYLIGHT
DTSTART:20230326T030000
TZOFFSETFROM:+0100
TZOFFSETTO:+0200
TZNAME:CEST
END:DAYLIGHT
END:VTIMEZONE
END:VCALENDAR