BEGIN:VCALENDAR
VERSION:2.0
PRODID:-//wp-events-plugin.com//7.2.3.1//EN
TZID:Europe/Paris
X-WR-TIMEZONE:Europe/Paris
BEGIN:VEVENT
UID:1912@cafeculturelcitoyen.org
DTSTART;TZID=Europe/Paris:20221018T200000
DTEND;TZID=Europe/Paris:20221018T220000
DTSTAMP:20220930T143001Z
URL:https://cafeculturelcitoyen.org/evenements/cafe-philo-peut-on-respecte
 r-la-nature-2/
SUMMARY:Café Philo - Peut-on respecter la nature ?
DESCRIPTION:Peut-on respecter la nature ?\n\nNous avons tant besoin de pré
 venir l’enchaînement des catastrophes qui s’annoncent en\nboomerang d
 es ravages provoqués par notre espèce dans son environnement naturel !\n
 N’est-il pas temps de nous rassembler derrière le principe de comportem
 ent : « Il faut\nrespecter la nature » ?\nMais que peut signifier « 
 respecter la nature » ? Ne peut-on pas écrire l’histoire de notre\nes
 pèce comme le développement de ses capacités techniques ? Et toute tech
 nique n’est-elle pas une prise de pouvoir sur le milieu naturel pour son
  propre intérêt ?\nL’enjeu de notre réflexion sera de faire « bouge
 r » nos idées sur la nature et sur l’humain\npour réduire ces impass
 es du raisonnement à des apparences trompeuses. En quoi la nature peut-el
 le être pensée comme respectable ? N’y a-t-il pas une dimension de l
 ’humain à laquelle doit se subordonner sa capacité technicienne ?
ATTACH;FMTTYPE=image/jpeg:https://cafeculturelcitoyen.org/wp-content/uploa
 ds/2022/09/Image2.jpg
END:VEVENT
BEGIN:VTIMEZONE
TZID:Europe/Paris
X-LIC-LOCATION:Europe/Paris
BEGIN:DAYLIGHT
DTSTART:20220327T030000
TZOFFSETFROM:+0100
TZOFFSETTO:+0200
TZNAME:CEST
END:DAYLIGHT
END:VTIMEZONE
END:VCALENDAR