BEGIN:VCALENDAR
VERSION:2.0
PRODID:-//wp-events-plugin.com//7.2.3.1//EN
TZID:Europe/Paris
X-WR-TIMEZONE:Europe/Paris
BEGIN:VEVENT
UID:2236@cafeculturelcitoyen.org
DTSTART;TZID=Europe/Paris:20230321T200000
DTEND;TZID=Europe/Paris:20230321T213000
DTSTAMP:20230321T131827Z
URL:https://cafeculturelcitoyen.org/evenements/cafe-philo-peut-on-ne-plus-
 avoir-peur/
SUMMARY:Café Philo - Peut-on ne plus avoir peur ?
DESCRIPTION:« N’ayez pas peur ! » lançait au monde le nouveau pape J
 ean-Paul II en 1978.\nLa peur\, en effet\, paralyse la capacité d’agir 
 des individus\, à moins qu’elle ne les pousse à la\nviolence aveugle. 
 En tout cas le sentiment de peur ne semble pas favoriser un\ncomportement 
 raisonnable !\nN’est-ce pas ce qui caractérise notre situation actuell
 e où l’on voit les humains si peu faire\nface à des pouvoirs sociaux q
 ui compromettent gravement l’avenir\, alors qu’ils peuvent se\nmontrer
  obsédés de sécurité à l’encontre de groupes sociaux vulnérables ?
 \nDe quoi a-t-on peur ? Dans quelle mesure peut-on éliminer la peur ?\n\n
 &nbsp\;\n\nUne participation aux frais libre et consciente est attendue de
 s participant-es\, sous une forme individuelle ou collective
ATTACH;FMTTYPE=image/jpeg:https://cafeculturelcitoyen.org/wp-content/uploa
 ds/2023/03/philo.jpg
END:VEVENT
BEGIN:VTIMEZONE
TZID:Europe/Paris
X-LIC-LOCATION:Europe/Paris
BEGIN:STANDARD
DTSTART:20221030T020000
TZOFFSETFROM:+0200
TZOFFSETTO:+0100
TZNAME:CET
END:STANDARD
END:VTIMEZONE
END:VCALENDAR