BEGIN:VCALENDAR
VERSION:2.0
PRODID:-//wp-events-plugin.com//7.2.3.1//EN
TZID:Europe/Paris
X-WR-TIMEZONE:Europe/Paris
BEGIN:VEVENT
UID:2254@cafeculturelcitoyen.org
DTSTART;TZID=Europe/Paris:20230516T200000
DTEND;TZID=Europe/Paris:20230516T213000
DTSTAMP:20230428T082200Z
URL:https://cafeculturelcitoyen.org/evenements/cafe-philo-peut-on-ne-plus-
 avoir-peur-2/
SUMMARY:Café Philo - Peut-on encore être moderne ?
DESCRIPTION:Peut-on encore être moderne ?\n\n« Pour une France moderne ! 
 » Tel était le slogan de la campagne pour l’élection présidentielle 
 du candidat Mitterrand en 1965.\nLongtemps\, il a fallu être moderne ! C
 ’était alors une valeur largement partagée qui orientait puissamment l
 es choix de comportement.\nAujourd’hui il n’est plus valorisant de se 
 déclarer moderne\, dans le mesure où l’emprise de cette valeur est con
 sidérée comme responsable de la dégradation de la situation écologique
  de l’humanité.\nEn avons-nous fini avec le désir d’être moderne ? 
 Est-il temps de prendre congé de la modernité ? Mais de quoi serait-ce p
 rendre congé ? De l’adhésion au Progrès ? Mais connaît-on des socié
 tés qui se désintéresseraient de progresser ?\nNous proposons de réfl
 échir la signification de « moderne ». N’est-ce pas la bonne démarch
 e pour savoir plus clairement ce que désormais nous refusons\, afin d’
 être plus lucide sur le bien commun que nous visons ?\n\nUne participatio
 n aux frais libre et consciente est attendue des participant-es\, sous une
  forme individuelle ou collective
ATTACH;FMTTYPE=image/jpeg:https://cafeculturelcitoyen.org/wp-content/uploa
 ds/2023/03/philo.jpg
END:VEVENT
BEGIN:VTIMEZONE
TZID:Europe/Paris
X-LIC-LOCATION:Europe/Paris
BEGIN:DAYLIGHT
DTSTART:20230326T030000
TZOFFSETFROM:+0100
TZOFFSETTO:+0200
TZNAME:CEST
END:DAYLIGHT
END:VTIMEZONE
END:VCALENDAR