BEGIN:VCALENDAR
VERSION:2.0
PRODID:-//wp-events-plugin.com//7.2.3.1//EN
TZID:Europe/Paris
X-WR-TIMEZONE:Europe/Paris
BEGIN:VEVENT
UID:2666@cafeculturelcitoyen.org
DTSTART;TZID=Europe/Paris:20240123T200000
DTEND;TZID=Europe/Paris:20240123T220000
DTSTAMP:20240110T110512Z
URL:https://cafeculturelcitoyen.org/evenements/cafe-philo-notre-cerveau-es
 t-il-sous-utilise/
SUMMARY:Café Philo - Notre cerveau est-il sous-utilisé ?
DESCRIPTION:L’affirmation que le cerveau humain est l’objet le plus com
 plexe qui existe\, et qu’il est\nordinairement sous-utilisé\, est le ma
 ntra du cognitivisme.\n\nLe cognitivisme est cette doctrine anthropologiqu
 e qui considère que sa capacité de connaissance\, qui fait la supériori
 té de l’espèce humaine\, repose essentiellement sur l’aptitude prodi
 gieuse de son cerveau à traiter les informations pour en faire des connai
 ssances.\n\nIl faut reconnaître au crédit de l’approche cognitiviste l
 a positivité de résultats expérimentaux indéniables. N’a-t-elle pas 
 réussi\, deux millénaires après le palestinien Jésus de Nazareth\, à 
 faire marcher le paralytique ?\n\nMais cette réduction de la connaissance
  à l’activité cérébrale rend elle bien justice à la richesse de l
 ’expérience humaine ? Faut-il\, sans un examen de ses présupposés phi
 losophiques\, laisser le cognitivisme réformer nos méthodes d’apprenti
 ssage ?
ATTACH;FMTTYPE=image/jpeg:https://cafeculturelcitoyen.org/wp-content/uploa
 ds/2023/03/philo.jpg
END:VEVENT
BEGIN:VTIMEZONE
TZID:Europe/Paris
X-LIC-LOCATION:Europe/Paris
BEGIN:STANDARD
DTSTART:20231029T020000
TZOFFSETFROM:+0200
TZOFFSETTO:+0100
TZNAME:CET
END:STANDARD
END:VTIMEZONE
END:VCALENDAR