BEGIN:VCALENDAR
VERSION:2.0
PRODID:-//wp-events-plugin.com//7.2.3.1//EN
TZID:Europe/Paris
X-WR-TIMEZONE:Europe/Paris
BEGIN:VEVENT
UID:1958@cafeculturelcitoyen.org
DTSTART;TZID=Europe/Paris:20230117T200000
DTEND;TZID=Europe/Paris:20230117T220000
DTSTAMP:20221205T190626Z
URL:https://cafeculturelcitoyen.org/evenements/cafe-philo-habiter-une-autr
 e-planete-fantasme-ou-possibilite/
SUMMARY:Café Philo - Habiter une autre planète : fantasme ou possibilité
  ?
DESCRIPTION:L’espèce humaine est\, de toutes les espèces vivantes\, la 
 plus adaptable. Grâce à sa\ncapacité technique elle est capable de vivr
 e à peu près n’importe où.\nAlors pourquoi ne pas habiter une autre p
 lanète ? Puisque\, sur Terre\, la désertification\net les espaces dépo
 toirs gagnent de plus en plus du fait des activités d’humains toujours 
 plus envahissants.\nOn sait que l’hypothèse est prise au sérieux par c
 ertains qui l’abordent comme un\nproblème technique. Mais la technique 
 peut-elle nous émanciper de tous nos liens avec\nnotre planète matrice ?
ATTACH;FMTTYPE=image/jpeg:https://cafeculturelcitoyen.org/wp-content/uploa
 ds/2022/09/Image2.jpg
END:VEVENT
BEGIN:VTIMEZONE
TZID:Europe/Paris
X-LIC-LOCATION:Europe/Paris
BEGIN:STANDARD
DTSTART:20221030T020000
TZOFFSETFROM:+0200
TZOFFSETTO:+0100
TZNAME:CET
END:STANDARD
END:VTIMEZONE
END:VCALENDAR