BEGIN:VCALENDAR
VERSION:2.0
PRODID:-//wp-events-plugin.com//7.2.3.1//EN
TZID:Europe/Paris
X-WR-TIMEZONE:Europe/Paris
BEGIN:VEVENT
UID:2050@cafeculturelcitoyen.org
DTSTART;TZID=Europe/Paris:20230221T200000
DTEND;TZID=Europe/Paris:20230221T213000
DTSTAMP:20230208T112253Z
URL:https://cafeculturelcitoyen.org/evenements/cafe-philo-faut-il-redouter
 -cette-intelligence-artificielle-qui-pretend-nous-aider/
SUMMARY:Café Philo - Faut-il redouter cette intelligence artificielle qui 
 prétend nous aider ?
DESCRIPTION:Faut-il redouter cette intelligence artificielle qui prétend n
 ous aider ?\n\nOn appelle « intelligence artificielle » (IA) la capacit
 é de machines numériques d’accomplir des tâches mentales que l’on a
 ttribue aux animaux et aux humains.\nL’IA nous est familière et peut no
 us être très utile. C’est elle qui est mise en œuvre lorsque nous int
 errogeons un moteur de recherche sur notre terminal numérique.\nAujourd
 ’hui\, elle a atteint le stade conversationnel : elle est capable de ré
 pondre en langage naturel à nos questions et requêtes – c’est ce qu
 ’on appelle les chatbots\, comme ChatGPT – et ceci de façon de plus e
 n plus circonstanciée\, comme si elle tenait compte de nous. Si bien que\
 , parfois\, nous ne savons pas s’il y a une autre personne ou une machin
 e au bout de la connexion !\nQue des machines puissent tenir lieu de perso
 nnes\, envers lesquelles se cristalliseront inévitablement nos sentiments
  humains\, cela ne modifie-t-il pas en profondeur notre rapport au monde ?
  Avec quelles conséquences ? Car les machines sont toujours programmées 
 par des personnes\, bien réelles\, avec de beaux sentiments altruistes\, 
 peut-être\, mais aussi\, certainement\, de petits calculs intéressés.
ATTACH;FMTTYPE=image/jpeg:https://cafeculturelcitoyen.org/wp-content/uploa
 ds/2023/02/Image2.jpg
END:VEVENT
BEGIN:VTIMEZONE
TZID:Europe/Paris
X-LIC-LOCATION:Europe/Paris
BEGIN:STANDARD
DTSTART:20221030T020000
TZOFFSETFROM:+0200
TZOFFSETTO:+0100
TZNAME:CET
END:STANDARD
END:VTIMEZONE
END:VCALENDAR