BEGIN:VCALENDAR
VERSION:2.0
PRODID:-//wp-events-plugin.com//7.2.3.1//EN
TZID:Europe/Paris
X-WR-TIMEZONE:Europe/Paris
BEGIN:VEVENT
UID:2250@cafeculturelcitoyen.org
DTSTART;TZID=Europe/Paris:20230401T140000
DTEND;TZID=Europe/Paris:20230401T170000
DTSTAMP:20230329T170133Z
URL:https://cafeculturelcitoyen.org/evenements/cafe-philo-du-samedi-lhumou
 r/
SUMMARY:Café philo du samedi - L'humour
DESCRIPTION:Le café philo du samedi est essentiellement animé par une ass
 ociation : l'asso des étudiant-es de philo de la Faculté d'Aix\, mais ou
 vert à tous-tes.\n\nLe format est plutôt informel : pas de leçons "desc
 endantes"\, mais une discussion où chacun-e a sa place.\n\nChaque samedi 
 un thème différent. si on commence à 14H\, les heures de fin en revanch
 e sont variables...
ATTACH;FMTTYPE=image/jpeg:https://cafeculturelcitoyen.org/wp-content/uploa
 ds/2023/03/Capture-decran-2023-03-29-190057.jpg
END:VEVENT
BEGIN:VTIMEZONE
TZID:Europe/Paris
X-LIC-LOCATION:Europe/Paris
BEGIN:DAYLIGHT
DTSTART:20230326T030000
TZOFFSETFROM:+0100
TZOFFSETTO:+0200
TZNAME:CEST
END:DAYLIGHT
END:VTIMEZONE
END:VCALENDAR