BEGIN:VCALENDAR
VERSION:2.0
PRODID:-//wp-events-plugin.com//7.2.3.1//EN
TZID:Europe/Paris
X-WR-TIMEZONE:Europe/Paris
BEGIN:VEVENT
UID:1721@cafeculturelcitoyen.org
DTSTART;TZID=Europe/Paris:20220517T194500
DTEND;TZID=Europe/Paris:20220517T230000
DTSTAMP:20220505T144227Z
URL:https://cafeculturelcitoyen.org/evenements/cafe-philo-8/
SUMMARY:Café Philo
DESCRIPTION:Une société anarchiste est-elle viable ?\nL’anarchisme est
  une doctrine politique qui considère tout mal dans la vie sociale vient 
 de l’autorité de l’État. Elle préconise donc la libération des ind
 ividus par l’établissement d’une société sans État.\nMais comment 
 pourrait être organisée une telle société ? Serait-elle sauve de toute
  situation d’autorité ? Abolirait-elle toute propriété ? Pourrait-ell
 e éviter les conflits et les rapports de force ? A-t-elle eu des exemples
  historiques ?\nRéfléchir à ces questions nous permettra au moins de cl
 arifier le problème politique : comment vivre ensemble de façon pleineme
 nt humaine\, c’est-à-dire sans verser dans la violence ou la relation d
 e servitude ?
ATTACH;FMTTYPE=image/jpeg:https://cafeculturelcitoyen.org/wp-content/uploa
 ds/2022/04/Sans-titre47.jpg
END:VEVENT
BEGIN:VTIMEZONE
TZID:Europe/Paris
X-LIC-LOCATION:Europe/Paris
BEGIN:DAYLIGHT
DTSTART:20220327T030000
TZOFFSETFROM:+0100
TZOFFSETTO:+0200
TZNAME:CEST
END:DAYLIGHT
END:VTIMEZONE
END:VCALENDAR