BEGIN:VCALENDAR
VERSION:2.0
PRODID:-//wp-events-plugin.com//7.2.3.1//EN
TZID:Europe/Paris
X-WR-TIMEZONE:Europe/Paris
BEGIN:VEVENT
UID:1677@cafeculturelcitoyen.org
DTSTART;TZID=Europe/Paris:20220419T194500
DTEND;TZID=Europe/Paris:20220419T204500
DTSTAMP:20220411T120713Z
URL:https://cafeculturelcitoyen.org/evenements/cafe-philo-7/
SUMMARY:Café Philo
DESCRIPTION:La démocratie est-elle compatible avec les lois du marché ?\n
 La  légitimité démocratique est l’idée\, qu’en dernier ressort\, 
 c’est le peuple qui décide de l’orientation de la société.\nOr\, au
 jourd’hui\, il apparaît que c’est la logique du développement d’un
  marché économique à l’échelle de la planète qui décide du destin 
 des sociétés.\nComment comprendre que\, dans un tel contexte\, subsisten
 t des États activement démocratiques ?\nMais aussi que peut signifier la
  partition qui s’est installée entre États démocratiques et États au
 tocratiques à l’intérieur de ce marché mondialisé ?\nPeut-être gagn
 erons-nous\, à partir de ces réflexions\, une idée plus claire de ce qu
 e nous pouvons\, nous qui bénéficions de ce bien incontestable que const
 ituent les libertés démocratiques ?\n
ATTACH;FMTTYPE=image/jpeg:https://cafeculturelcitoyen.org/wp-content/uploa
 ds/2022/02/liberte-agir1.jpg
END:VEVENT
BEGIN:VTIMEZONE
TZID:Europe/Paris
X-LIC-LOCATION:Europe/Paris
BEGIN:DAYLIGHT
DTSTART:20220327T030000
TZOFFSETFROM:+0100
TZOFFSETTO:+0200
TZNAME:CEST
END:DAYLIGHT
END:VTIMEZONE
END:VCALENDAR