BEGIN:VCALENDAR
VERSION:2.0
PRODID:-//wp-events-plugin.com//7.2.3.1//EN
TZID:Europe/Paris
X-WR-TIMEZONE:Europe/Paris
BEGIN:VEVENT
UID:2371@cafeculturelcitoyen.org
DTSTART;TZID=Europe/Paris:20231004T180000
DTEND;TZID=Europe/Paris:20231004T200000
DTSTAMP:20230914T074836Z
URL:https://cafeculturelcitoyen.org/evenements/cafe-occitan-nouveaute/
SUMMARY:Café occitan - nouveauté !
DESCRIPTION:Le 3C ouvre ses portes à l'occitan pendant deux heures les  p
 remiers mercredis du mois\, avant le boeuf manouche.\n\nPour découvrir l'
 occitan qui était\, il n'y a encore pas si longtemps\, la langue parlée\
 , écrite\, chantée et même nobelisée (avec Frédéric Mistral) dans no
 tre région\, pour se rafraîchir les oreilles si on en a déjà fait à l
 'école\, ou pour se perfectionner si on est déjà locuteur chevronné.
ATTACH;FMTTYPE=image/jpeg:https://cafeculturelcitoyen.org/wp-content/uploa
 ds/2023/09/Capture-decran-2023-09-13-183201.jpg
END:VEVENT
BEGIN:VTIMEZONE
TZID:Europe/Paris
X-LIC-LOCATION:Europe/Paris
BEGIN:DAYLIGHT
DTSTART:20230326T030000
TZOFFSETFROM:+0100
TZOFFSETTO:+0200
TZNAME:CEST
END:DAYLIGHT
END:VTIMEZONE
END:VCALENDAR