BEGIN:VCALENDAR
VERSION:2.0
PRODID:-//wp-events-plugin.com//7.2.3.1//EN
TZID:Europe/Paris
X-WR-TIMEZONE:Europe/Paris
BEGIN:VEVENT
UID:2128@cafeculturelcitoyen.org
DTSTART;TZID=Europe/Paris:20230315T183000
DTEND;TZID=Europe/Paris:20230315T210000
DTSTAMP:20230315T091610Z
URL:https://cafeculturelcitoyen.org/evenements/cafe-fle-francais-langue-et
 rangere/
SUMMARY:IREMAM - Faire du terrain en période de crise ou de conflit - Liba
 n\, Palestin
DESCRIPTION:\n\n\n\n\nAvec Cédric Parizot de l'IREMAM\, CNRS) et Lama Kabb
 anji (IRD\, CEPED)\n\n\n\n\n
ATTACH;FMTTYPE=image/jpeg:https://cafeculturelcitoyen.org/wp-content/uploa
 ds/2023/02/Capture-decran-2023-03-09-132408.png
END:VEVENT
BEGIN:VTIMEZONE
TZID:Europe/Paris
X-LIC-LOCATION:Europe/Paris
BEGIN:STANDARD
DTSTART:20221030T020000
TZOFFSETFROM:+0200
TZOFFSETTO:+0100
TZNAME:CET
END:STANDARD
END:VTIMEZONE
END:VCALENDAR