BEGIN:VCALENDAR
VERSION:2.0
PRODID:-//wp-events-plugin.com//7.2.3.1//EN
TZID:Europe/Paris
X-WR-TIMEZONE:Europe/Paris
BEGIN:VEVENT
UID:2255@cafeculturelcitoyen.org
DTSTART;TZID=Europe/Paris:20230419T193000
DTEND;TZID=Europe/Paris:20230419T220000
DTSTAMP:20230411T071548Z
URL:https://cafeculturelcitoyen.org/evenements/cafe-fle-francais-langue-et
 rangere-2/
SUMMARY:Café FLE – Français Langue Etrangère
DESCRIPTION:\n\n\n\n\nSe rencontrer entre étrangères-ers et francophones\
 , et par la discussion apprendre et pratiquer le français.\nLe Café FLE 
 permet d’accéder à de l’information relative à l’apprentissage de
  la langue\, mais aussi aux moyens de faciliter\nl’insertion des étrang
 ers dans la région d’Aix. Il peut aussi être l’occasion d’échange
 r pour trouver des solutions à des situations\nprécarisées ou fragilis
 ées. Le café FLE fonctionne autant sur la base de discussions spontanée
 s et libres qu’à travers des thèmes\nproposés par des professeur-e-s 
 de FLE\, ou par les participant-e-s.\n\n\n\n\n
ATTACH;FMTTYPE=image/jpeg:https://cafeculturelcitoyen.org/wp-content/uploa
 ds/2022/06/Capture-decran-2022-06-07-082405.jpg
END:VEVENT
BEGIN:VTIMEZONE
TZID:Europe/Paris
X-LIC-LOCATION:Europe/Paris
BEGIN:DAYLIGHT
DTSTART:20230326T030000
TZOFFSETFROM:+0100
TZOFFSETTO:+0200
TZNAME:CEST
END:DAYLIGHT
END:VTIMEZONE
END:VCALENDAR