BEGIN:VCALENDAR
VERSION:2.0
PRODID:-//wp-events-plugin.com//7.2.3.1//EN
TZID:Europe/Paris
X-WR-TIMEZONE:Europe/Paris
BEGIN:VEVENT
UID:1136@cafeculturelcitoyen.org
DTSTART;TZID=Europe/Paris:20220217T183000
DTEND;TZID=Europe/Paris:20220217T203000
DTSTAMP:20220201T094459Z
URL:https://cafeculturelcitoyen.org/evenements/cafe-debat-de-liremam-alger
 ie-les-territoires-de-la-contestation-par-said-belguidoum/
SUMMARY:Café-Débat de l'IREMAM :Lieux Saints partagés et disputés : Jé
 rusalem\, Palestine\, Jordanie
DESCRIPTION:Conférence animée par Elsa Grugeon (chercheuse associée au M
 ESOPOLHIS) et Norig Neveu (chercheuse\, IREMAM/CNRS)\n\nAfin que la parole
  des chercheurs et des universitaires puissent sortir des enceintes acadé
 miques et scientifiques et toucher un large public\, l’Institut de reche
 rches et d’études sur les mondes arabes et musulmans IREMAM (CNRS/AMU)\
 , en partenariat avec la revue Moyen-Orient\, organise en 2021-2022 un Caf
 é/Débat sur les modèles des cafés "histoire" ou des cafés "philo". Il
  se déroulera mensuellement au Café "Les 3 C" au 23 boulevard Carnot à 
 Aix-en-Provence. Les conférences et débats sont ouverts à toutes les pe
 rsonnes intéressées par les questions d’histoire et d’actualité sur
  le Proche et le Moyen-Orient. Les conférences\, assurées par les meille
 urs spécialistes des mondes arabes et musulmans\, sont accessibles aux é
 tudiant-e-s\, aux enseignant-e-s\, aux professionnels mais aussi à tous(t
 es) les citoyen-n-e-s qui souhaitent comprendre les questions historiques 
 et actuelles concernant cette région à la fois si proche et si lointaine
 .\n\nRetrouvez toute la programmation des cafés-débats - Saison 2021-202
 2 / Lien vers l'évènement Facebook
ATTACH;FMTTYPE=image/jpeg:https://cafeculturelcitoyen.org/wp-content/uploa
 ds/2019/10/Sans-titre89.png
END:VEVENT
BEGIN:VTIMEZONE
TZID:Europe/Paris
X-LIC-LOCATION:Europe/Paris
BEGIN:STANDARD
DTSTART:20211031T020000
TZOFFSETFROM:+0200
TZOFFSETTO:+0100
TZNAME:CET
END:STANDARD
END:VTIMEZONE
END:VCALENDAR