BEGIN:VCALENDAR
VERSION:2.0
PRODID:-//wp-events-plugin.com//7.2.3.1//EN
TZID:Europe/Paris
X-WR-TIMEZONE:Europe/Paris
BEGIN:VEVENT
UID:1551@cafeculturelcitoyen.org
DTSTART;TZID=Europe/Paris:20220519T183000
DTEND;TZID=Europe/Paris:20220519T234500
DTSTAMP:20220510T091208Z
URL:https://cafeculturelcitoyen.org/evenements/cafe-debat-avec-liremam-2/
SUMMARY:Café débat avec l'IREMAM et le revue Moyent-Orient - ANNULE !
DESCRIPTION:Avec Lucas FAURE (Sciences Po\, MESOPOLHIS)\, Guillaume Fourmon
 t et Vincent Geisser.\n\n« Les associations humanitaires musulmanes  : 
 bienfaisance ou prosélytisme  ? »\n \n
ATTACH;FMTTYPE=image/jpeg:https://cafeculturelcitoyen.org/wp-content/uploa
 ds/2017/07/Iremam_1.jpg
END:VEVENT
BEGIN:VTIMEZONE
TZID:Europe/Paris
X-LIC-LOCATION:Europe/Paris
BEGIN:DAYLIGHT
DTSTART:20220327T030000
TZOFFSETFROM:+0100
TZOFFSETTO:+0200
TZNAME:CEST
END:DAYLIGHT
END:VTIMEZONE
END:VCALENDAR